BEGIN:VCALENDAR
VERSION:2.0
PRODID:-//Tukios.com/
BEGIN:VEVENT
UID:7f6e3fd7-c738-4d6b-b276-da39b8566d57@www.gethersfuneralhome.com
DTSTAMP:20260425T190932Z
DTSTART:20260428T200000Z
DTEND:20260428T230000Z
SUMMARY:Viewing
DESCRIPTION:
URL:https://www.gethersfuneralhome.com/obituaries/joe-mccray
LOCATION: 200 Grace St  Moncks Corner SC 29461
GEO:33.1977343;-79.9948788
END:VEVENT
END:VCALENDAR