BEGIN:VCALENDAR
VERSION:2.0
PRODID:-//Tukios.com/
BEGIN:VEVENT
UID:82606ffb-9307-48f9-9d66-5df11802e793@www.gethersfuneralhome.com
DTSTAMP:20260421T233857Z
DTSTART:20260424T210000Z
DTEND:20260424T230000Z
SUMMARY:Viewing
DESCRIPTION:
URL:https://www.gethersfuneralhome.com/obituaries/mother-loretta-borden
LOCATION:Irving Chapel AME Church 316 Irving Chapel Road  Cordesville SC 
	29434
GEO:33.1237518;-79.8426512
END:VEVENT
END:VCALENDAR