BEGIN:VCALENDAR
VERSION:2.0
PRODID:-//Tukios.com/
BEGIN:VEVENT
UID:678088d3-022c-47ce-beca-e1afaf168cf6@www.gethersfuneralhome.com
DTSTAMP:20260421T233714Z
DTSTART:20260425T140000Z
DTEND:20260425T150000Z
SUMMARY:Funeral Service
DESCRIPTION:
URL:https://www.gethersfuneralhome.com/obituaries/mother-loretta-borden
LOCATION:Truth Tabernacle 1169 Old Church Road  Cordesville SC 29434
GEO:33.1213977;-79.917121
END:VEVENT
END:VCALENDAR