BEGIN:VCALENDAR
VERSION:2.0
PRODID:-//Tukios.com/
BEGIN:VEVENT
UID:50c6e0a0-b4a6-477e-bcde-d05412855be0@www.gethersfuneralhome.com
DTSTAMP:20260421T233520Z
DTSTART:20260425T040000Z
DTEND:20260425T174500Z
SUMMARY:Burial
DESCRIPTION:
URL:https://www.gethersfuneralhome.com/obituaries/mother-loretta-borden
LOCATION: 316 Irving Chapel Road  Cordesville SC 29434
GEO:33.1237518;-79.8426512
END:VEVENT
END:VCALENDAR